BEGIN:VCALENDAR
VERSION:2.0
PRODID:-//Putney Public Library - ECPv6.15.17//NONSGML v1.0//EN
CALSCALE:GREGORIAN
METHOD:PUBLISH
X-ORIGINAL-URL:https://putneylibrary.org
X-WR-CALDESC:Events for Putney Public Library
REFRESH-INTERVAL;VALUE=DURATION:PT1H
X-Robots-Tag:noindex
X-PUBLISHED-TTL:PT1H
BEGIN:VTIMEZONE
TZID:America/New_York
BEGIN:DAYLIGHT
TZOFFSETFROM:-0500
TZOFFSETTO:-0400
TZNAME:EDT
DTSTART:20250309T070000
END:DAYLIGHT
BEGIN:STANDARD
TZOFFSETFROM:-0400
TZOFFSETTO:-0500
TZNAME:EST
DTSTART:20251102T060000
END:STANDARD
BEGIN:DAYLIGHT
TZOFFSETFROM:-0500
TZOFFSETTO:-0400
TZNAME:EDT
DTSTART:20260308T070000
END:DAYLIGHT
BEGIN:STANDARD
TZOFFSETFROM:-0400
TZOFFSETTO:-0500
TZNAME:EST
DTSTART:20261101T060000
END:STANDARD
BEGIN:DAYLIGHT
TZOFFSETFROM:-0500
TZOFFSETTO:-0400
TZNAME:EDT
DTSTART:20270314T070000
END:DAYLIGHT
BEGIN:STANDARD
TZOFFSETFROM:-0400
TZOFFSETTO:-0500
TZNAME:EST
DTSTART:20271107T060000
END:STANDARD
END:VTIMEZONE
BEGIN:VEVENT
DTSTART;TZID=America/New_York:20260708T160000
DTEND;TZID=America/New_York:20260708T170000
DTSTAMP:20260420T171351
CREATED:20260401T190959Z
LAST-MODIFIED:20260420T192733Z
UID:10006662-1783526400-1783530000@putneylibrary.org
SUMMARY:Summer Reading Program - Among Dinosaurs
DESCRIPTION:With the help of the Southern Vermont Museum of Natural History’s LIVE ANIMAL ambassadors we will delve into prehistoric mammals\, ancient ocean invertebrates\, fossils and more.
URL:https://putneylibrary.org/event/among-dinosaurs-southern-vermont-museum-of-natural-history/
END:VEVENT
BEGIN:VEVENT
DTSTART;TZID=America/New_York:20260713T160000
DTEND;TZID=America/New_York:20260713T170000
DTSTAMP:20260420T171351
CREATED:20260420T192631Z
LAST-MODIFIED:20260420T192631Z
UID:10006666-1783958400-1783962000@putneylibrary.org
SUMMARY:Summer Reading Program - Erupting Volcanoes & Hatching Dinosaur Eggs
DESCRIPTION:Learn about what lies beneath the earth’s crust as we erupt our own volcano and watch the lava spew out!\nUsing the same chemistry we used to erupt the volcano we will slowly hatch our dinosaur eggs to reveal what is inside!
URL:https://putneylibrary.org/event/summer-reading-program-erupting-volcanoes-hatching-dinosaur-eggs/
END:VEVENT
BEGIN:VEVENT
DTSTART;TZID=America/New_York:20260715T150000
DTEND;TZID=America/New_York:20260715T160000
DTSTAMP:20260420T171351
CREATED:20260311T160119Z
LAST-MODIFIED:20260311T160119Z
UID:10006635-1784127600-1784131200@putneylibrary.org
SUMMARY:Putney Amblers Walking Group
DESCRIPTION:Would you like to get outside and walk in the company of others? The Putney Amblers is a casual walking group sponsored by Putney Public Library. Moseying with others is a great way to get out and be a part of a community group.\nThe Putney Amblers meet for walks at 3:00 pm on Wednesdays\, changing spots and routes each week. Please feel free to join us on an impromptu basis\, or email Susan Heimer to register to get weekly location and weather-related updates: heimer.susan@gmail.com Walks will last from 60-90 minutes depending on the will of the group.
URL:https://putneylibrary.org/event/putney-amblers-walking-group-3/2026-07-15/
END:VEVENT
BEGIN:VEVENT
DTSTART;TZID=America/New_York:20260715T160000
DTEND;TZID=America/New_York:20260715T170000
DTSTAMP:20260420T171351
CREATED:20260401T191057Z
LAST-MODIFIED:20260420T192810Z
UID:10006663-1784131200-1784134800@putneylibrary.org
SUMMARY:Summer reading Program - Annual Sidewalk Chalk Party
DESCRIPTION:You are invited to Putney‘s annual sidewalk chalk party! Make art\, make friends\, make connections. Enjoy snow cones and LIFE SIZED dinosaur art!
URL:https://putneylibrary.org/event/annual-sidewalk-chalk-party/
END:VEVENT
BEGIN:VEVENT
DTSTART;TZID=America/New_York:20260720T160000
DTEND;TZID=America/New_York:20260720T170000
DTSTAMP:20260420T171351
CREATED:20260420T192900Z
LAST-MODIFIED:20260420T192900Z
UID:10006667-1784563200-1784566800@putneylibrary.org
SUMMARY:Summer Reading Program - Let's talk about treasure buried at the dump!
DESCRIPTION:Did you know that there is really no ‘away’ for some many things we throw in the trash?\nWe will explore the treasure buried in our trash- whether it’s items you can repurpose for art or the food scraps you can turn into ‘black gold’ by composting. Join local artist\, Amber Paris and WSWMD outreach coordinator\, Alex Lacy to explore how we can make better use of the things we might otherwise bury in the trash. You will have the opportunity to contribute to a collaborative art piece that will be installed at our transfer station in the Fall!
URL:https://putneylibrary.org/event/summer-reading-program-lets-talk-about-treasure-buried-at-the-dump/
END:VEVENT
BEGIN:VEVENT
DTSTART;TZID=America/New_York:20260722T150000
DTEND;TZID=America/New_York:20260722T160000
DTSTAMP:20260420T171351
CREATED:20260311T160119Z
LAST-MODIFIED:20260311T160119Z
UID:10006636-1784732400-1784736000@putneylibrary.org
SUMMARY:Putney Amblers Walking Group
DESCRIPTION:Would you like to get outside and walk in the company of others? The Putney Amblers is a casual walking group sponsored by Putney Public Library. Moseying with others is a great way to get out and be a part of a community group.\nThe Putney Amblers meet for walks at 3:00 pm on Wednesdays\, changing spots and routes each week. Please feel free to join us on an impromptu basis\, or email Susan Heimer to register to get weekly location and weather-related updates: heimer.susan@gmail.com Walks will last from 60-90 minutes depending on the will of the group.
URL:https://putneylibrary.org/event/putney-amblers-walking-group-3/2026-07-22/
END:VEVENT
BEGIN:VEVENT
DTSTART;TZID=America/New_York:20260722T160000
DTEND;TZID=America/New_York:20260722T170000
DTSTAMP:20260420T171351
CREATED:20260420T193020Z
LAST-MODIFIED:20260420T193020Z
UID:10006668-1784736000-1784739600@putneylibrary.org
SUMMARY:Summer Reading Program - Dirt Cups with the Brattleboro Food Coop
DESCRIPTION:Let’s learn about soil health by eating some dirt! Well\, dirt pudding cups\, actually. Each young participant will create their own bowl of healthy soil using homemade chocolate whipped cream\, crushed grahams\, and all kinds of other delicious ingredients!  Gluten-free\, vegan and dairy-free options will be available; if your family needs any other dietary accommodations please let the library know by Friday\, July 17th.
URL:https://putneylibrary.org/event/summer-reading-program-dirt-cups-with-the-brattleboro-food-coop/
END:VEVENT
BEGIN:VEVENT
DTSTART;TZID=America/New_York:20260729T150000
DTEND;TZID=America/New_York:20260729T160000
DTSTAMP:20260420T171351
CREATED:20260311T160119Z
LAST-MODIFIED:20260311T160119Z
UID:10006637-1785337200-1785340800@putneylibrary.org
SUMMARY:Putney Amblers Walking Group
DESCRIPTION:Would you like to get outside and walk in the company of others? The Putney Amblers is a casual walking group sponsored by Putney Public Library. Moseying with others is a great way to get out and be a part of a community group.\nThe Putney Amblers meet for walks at 3:00 pm on Wednesdays\, changing spots and routes each week. Please feel free to join us on an impromptu basis\, or email Susan Heimer to register to get weekly location and weather-related updates: heimer.susan@gmail.com Walks will last from 60-90 minutes depending on the will of the group.
URL:https://putneylibrary.org/event/putney-amblers-walking-group-3/2026-07-29/
END:VEVENT
BEGIN:VEVENT
DTSTART;TZID=America/New_York:20260805T150000
DTEND;TZID=America/New_York:20260805T160000
DTSTAMP:20260420T171351
CREATED:20260311T160119Z
LAST-MODIFIED:20260311T160119Z
UID:10006638-1785942000-1785945600@putneylibrary.org
SUMMARY:Putney Amblers Walking Group
DESCRIPTION:Would you like to get outside and walk in the company of others? The Putney Amblers is a casual walking group sponsored by Putney Public Library. Moseying with others is a great way to get out and be a part of a community group.\nThe Putney Amblers meet for walks at 3:00 pm on Wednesdays\, changing spots and routes each week. Please feel free to join us on an impromptu basis\, or email Susan Heimer to register to get weekly location and weather-related updates: heimer.susan@gmail.com Walks will last from 60-90 minutes depending on the will of the group.
URL:https://putneylibrary.org/event/putney-amblers-walking-group-3/2026-08-05/
END:VEVENT
BEGIN:VEVENT
DTSTART;TZID=America/New_York:20260812T150000
DTEND;TZID=America/New_York:20260812T160000
DTSTAMP:20260420T171351
CREATED:20260311T160119Z
LAST-MODIFIED:20260311T160119Z
UID:10006639-1786546800-1786550400@putneylibrary.org
SUMMARY:Putney Amblers Walking Group
DESCRIPTION:Would you like to get outside and walk in the company of others? The Putney Amblers is a casual walking group sponsored by Putney Public Library. Moseying with others is a great way to get out and be a part of a community group.\nThe Putney Amblers meet for walks at 3:00 pm on Wednesdays\, changing spots and routes each week. Please feel free to join us on an impromptu basis\, or email Susan Heimer to register to get weekly location and weather-related updates: heimer.susan@gmail.com Walks will last from 60-90 minutes depending on the will of the group.
URL:https://putneylibrary.org/event/putney-amblers-walking-group-3/2026-08-12/
END:VEVENT
BEGIN:VEVENT
DTSTART;TZID=America/New_York:20260819T150000
DTEND;TZID=America/New_York:20260819T160000
DTSTAMP:20260420T171351
CREATED:20260311T160119Z
LAST-MODIFIED:20260311T160119Z
UID:10006640-1787151600-1787155200@putneylibrary.org
SUMMARY:Putney Amblers Walking Group
DESCRIPTION:Would you like to get outside and walk in the company of others? The Putney Amblers is a casual walking group sponsored by Putney Public Library. Moseying with others is a great way to get out and be a part of a community group.\nThe Putney Amblers meet for walks at 3:00 pm on Wednesdays\, changing spots and routes each week. Please feel free to join us on an impromptu basis\, or email Susan Heimer to register to get weekly location and weather-related updates: heimer.susan@gmail.com Walks will last from 60-90 minutes depending on the will of the group.
URL:https://putneylibrary.org/event/putney-amblers-walking-group-3/2026-08-19/
END:VEVENT
BEGIN:VEVENT
DTSTART;TZID=America/New_York:20260826T150000
DTEND;TZID=America/New_York:20260826T160000
DTSTAMP:20260420T171351
CREATED:20260311T160119Z
LAST-MODIFIED:20260311T160119Z
UID:10006641-1787756400-1787760000@putneylibrary.org
SUMMARY:Putney Amblers Walking Group
DESCRIPTION:Would you like to get outside and walk in the company of others? The Putney Amblers is a casual walking group sponsored by Putney Public Library. Moseying with others is a great way to get out and be a part of a community group.\nThe Putney Amblers meet for walks at 3:00 pm on Wednesdays\, changing spots and routes each week. Please feel free to join us on an impromptu basis\, or email Susan Heimer to register to get weekly location and weather-related updates: heimer.susan@gmail.com Walks will last from 60-90 minutes depending on the will of the group.
URL:https://putneylibrary.org/event/putney-amblers-walking-group-3/2026-08-26/
END:VEVENT
BEGIN:VEVENT
DTSTART;TZID=America/New_York:20260902T150000
DTEND;TZID=America/New_York:20260902T160000
DTSTAMP:20260420T171351
CREATED:20260311T160119Z
LAST-MODIFIED:20260311T160119Z
UID:10006642-1788361200-1788364800@putneylibrary.org
SUMMARY:Putney Amblers Walking Group
DESCRIPTION:Would you like to get outside and walk in the company of others? The Putney Amblers is a casual walking group sponsored by Putney Public Library. Moseying with others is a great way to get out and be a part of a community group.\nThe Putney Amblers meet for walks at 3:00 pm on Wednesdays\, changing spots and routes each week. Please feel free to join us on an impromptu basis\, or email Susan Heimer to register to get weekly location and weather-related updates: heimer.susan@gmail.com Walks will last from 60-90 minutes depending on the will of the group.
URL:https://putneylibrary.org/event/putney-amblers-walking-group-3/2026-09-02/
END:VEVENT
BEGIN:VEVENT
DTSTART;VALUE=DATE:20260907
DTEND;VALUE=DATE:20260908
DTSTAMP:20260420T171351
CREATED:20251212T221009Z
LAST-MODIFIED:20260121T191600Z
UID:10006551-1788739200-1788825599@putneylibrary.org
SUMMARY:Library Closed for Labor Day
DESCRIPTION:
URL:https://putneylibrary.org/event/library-closed-for-labor-day-4/
END:VEVENT
BEGIN:VEVENT
DTSTART;TZID=America/New_York:20260909T150000
DTEND;TZID=America/New_York:20260909T160000
DTSTAMP:20260420T171351
CREATED:20260311T160119Z
LAST-MODIFIED:20260311T160119Z
UID:10006643-1788966000-1788969600@putneylibrary.org
SUMMARY:Putney Amblers Walking Group
DESCRIPTION:Would you like to get outside and walk in the company of others? The Putney Amblers is a casual walking group sponsored by Putney Public Library. Moseying with others is a great way to get out and be a part of a community group.\nThe Putney Amblers meet for walks at 3:00 pm on Wednesdays\, changing spots and routes each week. Please feel free to join us on an impromptu basis\, or email Susan Heimer to register to get weekly location and weather-related updates: heimer.susan@gmail.com Walks will last from 60-90 minutes depending on the will of the group.
URL:https://putneylibrary.org/event/putney-amblers-walking-group-3/2026-09-09/
END:VEVENT
BEGIN:VEVENT
DTSTART;TZID=America/New_York:20260916T150000
DTEND;TZID=America/New_York:20260916T160000
DTSTAMP:20260420T171351
CREATED:20260311T160119Z
LAST-MODIFIED:20260311T160119Z
UID:10006644-1789570800-1789574400@putneylibrary.org
SUMMARY:Putney Amblers Walking Group
DESCRIPTION:Would you like to get outside and walk in the company of others? The Putney Amblers is a casual walking group sponsored by Putney Public Library. Moseying with others is a great way to get out and be a part of a community group.\nThe Putney Amblers meet for walks at 3:00 pm on Wednesdays\, changing spots and routes each week. Please feel free to join us on an impromptu basis\, or email Susan Heimer to register to get weekly location and weather-related updates: heimer.susan@gmail.com Walks will last from 60-90 minutes depending on the will of the group.
URL:https://putneylibrary.org/event/putney-amblers-walking-group-3/2026-09-16/
END:VEVENT
BEGIN:VEVENT
DTSTART;TZID=America/New_York:20260923T150000
DTEND;TZID=America/New_York:20260923T160000
DTSTAMP:20260420T171351
CREATED:20260311T160119Z
LAST-MODIFIED:20260311T160119Z
UID:10006645-1790175600-1790179200@putneylibrary.org
SUMMARY:Putney Amblers Walking Group
DESCRIPTION:Would you like to get outside and walk in the company of others? The Putney Amblers is a casual walking group sponsored by Putney Public Library. Moseying with others is a great way to get out and be a part of a community group.\nThe Putney Amblers meet for walks at 3:00 pm on Wednesdays\, changing spots and routes each week. Please feel free to join us on an impromptu basis\, or email Susan Heimer to register to get weekly location and weather-related updates: heimer.susan@gmail.com Walks will last from 60-90 minutes depending on the will of the group.
URL:https://putneylibrary.org/event/putney-amblers-walking-group-3/2026-09-23/
END:VEVENT
BEGIN:VEVENT
DTSTART;TZID=America/New_York:20260930T150000
DTEND;TZID=America/New_York:20260930T160000
DTSTAMP:20260420T171351
CREATED:20260311T160119Z
LAST-MODIFIED:20260311T160119Z
UID:10006646-1790780400-1790784000@putneylibrary.org
SUMMARY:Putney Amblers Walking Group
DESCRIPTION:Would you like to get outside and walk in the company of others? The Putney Amblers is a casual walking group sponsored by Putney Public Library. Moseying with others is a great way to get out and be a part of a community group.\nThe Putney Amblers meet for walks at 3:00 pm on Wednesdays\, changing spots and routes each week. Please feel free to join us on an impromptu basis\, or email Susan Heimer to register to get weekly location and weather-related updates: heimer.susan@gmail.com Walks will last from 60-90 minutes depending on the will of the group.
URL:https://putneylibrary.org/event/putney-amblers-walking-group-3/2026-09-30/
END:VEVENT
BEGIN:VEVENT
DTSTART;TZID=America/New_York:20261007T150000
DTEND;TZID=America/New_York:20261007T160000
DTSTAMP:20260420T171351
CREATED:20260311T160119Z
LAST-MODIFIED:20260311T160119Z
UID:10006647-1791385200-1791388800@putneylibrary.org
SUMMARY:Putney Amblers Walking Group
DESCRIPTION:Would you like to get outside and walk in the company of others? The Putney Amblers is a casual walking group sponsored by Putney Public Library. Moseying with others is a great way to get out and be a part of a community group.\nThe Putney Amblers meet for walks at 3:00 pm on Wednesdays\, changing spots and routes each week. Please feel free to join us on an impromptu basis\, or email Susan Heimer to register to get weekly location and weather-related updates: heimer.susan@gmail.com Walks will last from 60-90 minutes depending on the will of the group.
URL:https://putneylibrary.org/event/putney-amblers-walking-group-3/2026-10-07/
END:VEVENT
BEGIN:VEVENT
DTSTART;VALUE=DATE:20261012
DTEND;VALUE=DATE:20261013
DTSTAMP:20260420T171351
CREATED:20251212T221126Z
LAST-MODIFIED:20260121T191607Z
UID:10006552-1791763200-1791849599@putneylibrary.org
SUMMARY:Library Closed for Indigenous Peoples Day
DESCRIPTION:
URL:https://putneylibrary.org/event/library-closed-for-indigenous-peoples-day-3/
END:VEVENT
BEGIN:VEVENT
DTSTART;TZID=America/New_York:20261014T150000
DTEND;TZID=America/New_York:20261014T160000
DTSTAMP:20260420T171351
CREATED:20260311T160119Z
LAST-MODIFIED:20260311T160119Z
UID:10006648-1791990000-1791993600@putneylibrary.org
SUMMARY:Putney Amblers Walking Group
DESCRIPTION:Would you like to get outside and walk in the company of others? The Putney Amblers is a casual walking group sponsored by Putney Public Library. Moseying with others is a great way to get out and be a part of a community group.\nThe Putney Amblers meet for walks at 3:00 pm on Wednesdays\, changing spots and routes each week. Please feel free to join us on an impromptu basis\, or email Susan Heimer to register to get weekly location and weather-related updates: heimer.susan@gmail.com Walks will last from 60-90 minutes depending on the will of the group.
URL:https://putneylibrary.org/event/putney-amblers-walking-group-3/2026-10-14/
END:VEVENT
BEGIN:VEVENT
DTSTART;TZID=America/New_York:20261021T150000
DTEND;TZID=America/New_York:20261021T160000
DTSTAMP:20260420T171351
CREATED:20260311T160119Z
LAST-MODIFIED:20260311T160119Z
UID:10006649-1792594800-1792598400@putneylibrary.org
SUMMARY:Putney Amblers Walking Group
DESCRIPTION:Would you like to get outside and walk in the company of others? The Putney Amblers is a casual walking group sponsored by Putney Public Library. Moseying with others is a great way to get out and be a part of a community group.\nThe Putney Amblers meet for walks at 3:00 pm on Wednesdays\, changing spots and routes each week. Please feel free to join us on an impromptu basis\, or email Susan Heimer to register to get weekly location and weather-related updates: heimer.susan@gmail.com Walks will last from 60-90 minutes depending on the will of the group.
URL:https://putneylibrary.org/event/putney-amblers-walking-group-3/2026-10-21/
END:VEVENT
BEGIN:VEVENT
DTSTART;TZID=America/New_York:20261028T150000
DTEND;TZID=America/New_York:20261028T160000
DTSTAMP:20260420T171351
CREATED:20260311T160119Z
LAST-MODIFIED:20260311T160119Z
UID:10006650-1793199600-1793203200@putneylibrary.org
SUMMARY:Putney Amblers Walking Group
DESCRIPTION:Would you like to get outside and walk in the company of others? The Putney Amblers is a casual walking group sponsored by Putney Public Library. Moseying with others is a great way to get out and be a part of a community group.\nThe Putney Amblers meet for walks at 3:00 pm on Wednesdays\, changing spots and routes each week. Please feel free to join us on an impromptu basis\, or email Susan Heimer to register to get weekly location and weather-related updates: heimer.susan@gmail.com Walks will last from 60-90 minutes depending on the will of the group.
URL:https://putneylibrary.org/event/putney-amblers-walking-group-3/2026-10-28/
END:VEVENT
BEGIN:VEVENT
DTSTART;VALUE=DATE:20261111
DTEND;VALUE=DATE:20261112
DTSTAMP:20260420T171351
CREATED:20251212T221202Z
LAST-MODIFIED:20260121T191636Z
UID:10006553-1794355200-1794441599@putneylibrary.org
SUMMARY:Library Closed for Veterans Day
DESCRIPTION:
URL:https://putneylibrary.org/event/library-closed-for-veterans-day-5/
END:VEVENT
BEGIN:VEVENT
DTSTART;VALUE=DATE:20261126
DTEND;VALUE=DATE:20261128
DTSTAMP:20260420T171351
CREATED:20251212T221250Z
LAST-MODIFIED:20260121T191644Z
UID:10006554-1795651200-1795823999@putneylibrary.org
SUMMARY:Library Closed for Thanksgiving
DESCRIPTION:
URL:https://putneylibrary.org/event/library-closed-for-thanksgiving-2/
END:VEVENT
BEGIN:VEVENT
DTSTART;TZID=America/New_York:20261224T150000
DTEND;TZID=America/New_York:20261224T180000
DTSTAMP:20260420T171351
CREATED:20251212T221349Z
LAST-MODIFIED:20260121T191652Z
UID:10006555-1798124400-1798135200@putneylibrary.org
SUMMARY:Library Closes at 3pm for Christmas Eve
DESCRIPTION:
URL:https://putneylibrary.org/event/library-closes-at-3pm-for-christmas-eve-2/
END:VEVENT
END:VCALENDAR