BEGIN:VCALENDAR
VERSION:2.0
PRODID:-//Putney Public Library - ECPv6.15.17//NONSGML v1.0//EN
CALSCALE:GREGORIAN
METHOD:PUBLISH
X-WR-CALNAME:Putney Public Library
X-ORIGINAL-URL:http://putneylibrary.org
X-WR-CALDESC:Events for Putney Public Library
REFRESH-INTERVAL;VALUE=DURATION:PT1H
X-Robots-Tag:noindex
X-PUBLISHED-TTL:PT1H
BEGIN:VTIMEZONE
TZID:America/New_York
BEGIN:DAYLIGHT
TZOFFSETFROM:-0500
TZOFFSETTO:-0400
TZNAME:EDT
DTSTART:20250309T070000
END:DAYLIGHT
BEGIN:STANDARD
TZOFFSETFROM:-0400
TZOFFSETTO:-0500
TZNAME:EST
DTSTART:20251102T060000
END:STANDARD
BEGIN:DAYLIGHT
TZOFFSETFROM:-0500
TZOFFSETTO:-0400
TZNAME:EDT
DTSTART:20260308T070000
END:DAYLIGHT
BEGIN:STANDARD
TZOFFSETFROM:-0400
TZOFFSETTO:-0500
TZNAME:EST
DTSTART:20261101T060000
END:STANDARD
BEGIN:DAYLIGHT
TZOFFSETFROM:-0500
TZOFFSETTO:-0400
TZNAME:EDT
DTSTART:20270314T070000
END:DAYLIGHT
BEGIN:STANDARD
TZOFFSETFROM:-0400
TZOFFSETTO:-0500
TZNAME:EST
DTSTART:20271107T060000
END:STANDARD
END:VTIMEZONE
BEGIN:VEVENT
DTSTART;TZID=America/New_York:20260506T150000
DTEND;TZID=America/New_York:20260506T160000
DTSTAMP:20260421T051110
CREATED:20260311T160119Z
LAST-MODIFIED:20260311T160119Z
UID:10006625-1778079600-1778083200@putneylibrary.org
SUMMARY:Putney Amblers Walking Group
DESCRIPTION:Would you like to get outside and walk in the company of others? The Putney Amblers is a casual walking group sponsored by Putney Public Library. Moseying with others is a great way to get out and be a part of a community group.\nThe Putney Amblers meet for walks at 3:00 pm on Wednesdays\, changing spots and routes each week. Please feel free to join us on an impromptu basis\, or email Susan Heimer to register to get weekly location and weather-related updates: heimer.susan@gmail.com Walks will last from 60-90 minutes depending on the will of the group.
URL:http://putneylibrary.org/event/putney-amblers-walking-group-3/2026-05-06/
END:VEVENT
BEGIN:VEVENT
DTSTART;TZID=America/New_York:20260506T180000
DTEND;TZID=America/New_York:20260506T200000
DTSTAMP:20260421T051110
CREATED:20251120T172625Z
LAST-MODIFIED:20260121T191152Z
UID:10006532-1778090400-1778097600@putneylibrary.org
SUMMARY:Stitch Together
DESCRIPTION:Stitch Together at Putney Library\nCome knit\, crochet\, embroider\, mend or work on any handwork craft in the company of others. The library is cozy and the lighting is perfect for needlework of all kinds! Beginners are welcome!\nThe group will meet twice monthly on Wednesday evenings from 6pm-8pm. The next meetings are: \nPutney Library is located at 55 Main Street in Putney\, VT. This program is free and open to the public.
URL:http://putneylibrary.org/event/stitch-together-16/
END:VEVENT
BEGIN:VEVENT
DTSTART;TZID=America/New_York:20260509T093000
DTEND;TZID=America/New_York:20260509T103000
DTSTAMP:20260421T051110
CREATED:20260312T150940Z
LAST-MODIFIED:20260312T150940Z
UID:10006652-1778319000-1778322600@putneylibrary.org
SUMMARY:Music & Movement
DESCRIPTION:Join Sarah & Stu for a fun\, playful\, and participatory song circle for children ages 0-5! In this dynamic class\, children (and their caregivers) will be invited to sing\, play\, and move their bodies to the sounds of uplifting American and world folk songs accompanied by guitar\, ukulele & mandolin.
URL:http://putneylibrary.org/event/music-movement-34/
END:VEVENT
BEGIN:VEVENT
DTSTART;TZID=America/New_York:20260513T150000
DTEND;TZID=America/New_York:20260513T160000
DTSTAMP:20260421T051110
CREATED:20260311T160119Z
LAST-MODIFIED:20260311T160119Z
UID:10006626-1778684400-1778688000@putneylibrary.org
SUMMARY:Putney Amblers Walking Group
DESCRIPTION:Would you like to get outside and walk in the company of others? The Putney Amblers is a casual walking group sponsored by Putney Public Library. Moseying with others is a great way to get out and be a part of a community group.\nThe Putney Amblers meet for walks at 3:00 pm on Wednesdays\, changing spots and routes each week. Please feel free to join us on an impromptu basis\, or email Susan Heimer to register to get weekly location and weather-related updates: heimer.susan@gmail.com Walks will last from 60-90 minutes depending on the will of the group.
URL:http://putneylibrary.org/event/putney-amblers-walking-group-3/2026-05-13/
END:VEVENT
BEGIN:VEVENT
DTSTART;TZID=America/New_York:20260517T130000
DTEND;TZID=America/New_York:20260517T160000
DTSTAMP:20260421T051110
CREATED:20251217T204711Z
LAST-MODIFIED:20260121T191320Z
UID:10006564-1779022800-1779033600@putneylibrary.org
SUMMARY:Mending Bee
DESCRIPTION:Do you have a pile of nice wool socks with holes\, favorite jeans that would be perfect if not for a rip in the knee\, or sweaters with moth holes?\nBring your ailing fabric items to the Putney Public Library once a month on Sundays 1-4pm to work on them in the company of others. Advice and support are always available\, but you’ll be the mender of your own items.\nSewing machines and darning tools are available to use during the Bee.
URL:http://putneylibrary.org/event/mending-bee-25/
END:VEVENT
BEGIN:VEVENT
DTSTART;TZID=America/New_York:20260520T150000
DTEND;TZID=America/New_York:20260520T160000
DTSTAMP:20260421T051110
CREATED:20260311T160119Z
LAST-MODIFIED:20260311T160119Z
UID:10006627-1779289200-1779292800@putneylibrary.org
SUMMARY:Putney Amblers Walking Group
DESCRIPTION:Would you like to get outside and walk in the company of others? The Putney Amblers is a casual walking group sponsored by Putney Public Library. Moseying with others is a great way to get out and be a part of a community group.\nThe Putney Amblers meet for walks at 3:00 pm on Wednesdays\, changing spots and routes each week. Please feel free to join us on an impromptu basis\, or email Susan Heimer to register to get weekly location and weather-related updates: heimer.susan@gmail.com Walks will last from 60-90 minutes depending on the will of the group.
URL:http://putneylibrary.org/event/putney-amblers-walking-group-3/2026-05-20/
END:VEVENT
BEGIN:VEVENT
DTSTART;TZID=America/New_York:20260520T180000
DTEND;TZID=America/New_York:20260520T200000
DTSTAMP:20260421T051110
CREATED:20251120T173309Z
LAST-MODIFIED:20260121T191327Z
UID:10006533-1779300000-1779307200@putneylibrary.org
SUMMARY:Stitch Together
DESCRIPTION:Stitch Together at Putney Library\nCome knit\, crochet\, embroider\, mend or work on any handwork craft in the company of others. The library is cozy and the lighting is perfect for needlework of all kinds! Beginners are welcome!\nThe group will meet twice monthly on Wednesday evenings from 6pm-8pm. The next meetings are: \nPutney Library is located at 55 Main Street in Putney\, VT. This program is free and open to the public.
URL:http://putneylibrary.org/event/stitch-together-13/
END:VEVENT
BEGIN:VEVENT
DTSTART;VALUE=DATE:20260525
DTEND;VALUE=DATE:20260526
DTSTAMP:20260421T051110
CREATED:20251212T220746Z
LAST-MODIFIED:20260121T191335Z
UID:10006548-1779667200-1779753599@putneylibrary.org
SUMMARY:Library Closed for Memorial Day
DESCRIPTION:
URL:http://putneylibrary.org/event/library-closed-for-memorial-day-4/
END:VEVENT
BEGIN:VEVENT
DTSTART;TZID=America/New_York:20260526T153000
DTEND;TZID=America/New_York:20260526T163000
DTSTAMP:20260421T051110
CREATED:20260406T150953Z
LAST-MODIFIED:20260406T150953Z
UID:10006664-1779809400-1779813000@putneylibrary.org
SUMMARY:Read with a Dog - It's Virgil's Birthday!!
DESCRIPTION:Practice your reading skills with Virgil\, our therapy dog volunteer and his human Abigail. All ages and abilities welcome\nVirgil loves to listen!\nBonus: May 26th is Virgil’s birthday come celebrate by reading him a story and bring a treat if you wish.
URL:http://putneylibrary.org/event/read-with-a-dog-its-virgils-birthday/
END:VEVENT
BEGIN:VEVENT
DTSTART;TZID=America/New_York:20260527T150000
DTEND;TZID=America/New_York:20260527T160000
DTSTAMP:20260421T051110
CREATED:20260311T160119Z
LAST-MODIFIED:20260311T160119Z
UID:10006628-1779894000-1779897600@putneylibrary.org
SUMMARY:Putney Amblers Walking Group
DESCRIPTION:Would you like to get outside and walk in the company of others? The Putney Amblers is a casual walking group sponsored by Putney Public Library. Moseying with others is a great way to get out and be a part of a community group.\nThe Putney Amblers meet for walks at 3:00 pm on Wednesdays\, changing spots and routes each week. Please feel free to join us on an impromptu basis\, or email Susan Heimer to register to get weekly location and weather-related updates: heimer.susan@gmail.com Walks will last from 60-90 minutes depending on the will of the group.
URL:http://putneylibrary.org/event/putney-amblers-walking-group-3/2026-05-27/
END:VEVENT
BEGIN:VEVENT
DTSTART;TZID=America/New_York:20260530T093000
DTEND;TZID=America/New_York:20260530T223000
DTSTAMP:20260421T051110
CREATED:20260407T180334Z
LAST-MODIFIED:20260407T180334Z
UID:10006665-1780133400-1780180200@putneylibrary.org
SUMMARY:Music & Movement
DESCRIPTION:Join Sarah & Stu for a fun\, playful\, and participatory song circle for children ages 0-5! In this dynamic class\, children (and their caregivers) will be invited to sing\, play\, and move their bodies to the sounds of uplifting American and world folk songs accompanied by guitar\, ukulele & mandolin.
URL:http://putneylibrary.org/event/music-movement-35/
END:VEVENT
BEGIN:VEVENT
DTSTART;TZID=America/New_York:20260603T150000
DTEND;TZID=America/New_York:20260603T160000
DTSTAMP:20260421T051110
CREATED:20260311T160119Z
LAST-MODIFIED:20260311T160119Z
UID:10006629-1780498800-1780502400@putneylibrary.org
SUMMARY:Putney Amblers Walking Group
DESCRIPTION:Would you like to get outside and walk in the company of others? The Putney Amblers is a casual walking group sponsored by Putney Public Library. Moseying with others is a great way to get out and be a part of a community group.\nThe Putney Amblers meet for walks at 3:00 pm on Wednesdays\, changing spots and routes each week. Please feel free to join us on an impromptu basis\, or email Susan Heimer to register to get weekly location and weather-related updates: heimer.susan@gmail.com Walks will last from 60-90 minutes depending on the will of the group.
URL:http://putneylibrary.org/event/putney-amblers-walking-group-3/2026-06-03/
END:VEVENT
BEGIN:VEVENT
DTSTART;TZID=America/New_York:20260603T180000
DTEND;TZID=America/New_York:20260603T200000
DTSTAMP:20260421T051110
CREATED:20251120T173339Z
LAST-MODIFIED:20260121T191344Z
UID:10006534-1780509600-1780516800@putneylibrary.org
SUMMARY:Stitch Together
DESCRIPTION:Stitch Together at Putney Library\nCome knit\, crochet\, embroider\, mend or work on any handwork craft in the company of others. The library is cozy and the lighting is perfect for needlework of all kinds! Beginners are welcome!\nThe group will meet twice monthly on Wednesday evenings from 6pm-8pm. The next meetings are: \nPutney Library is located at 55 Main Street in Putney\, VT. This program is free and open to the public.
URL:http://putneylibrary.org/event/stitch-together-14/
END:VEVENT
BEGIN:VEVENT
DTSTART;TZID=America/New_York:20260610T150000
DTEND;TZID=America/New_York:20260610T160000
DTSTAMP:20260421T051110
CREATED:20260311T160119Z
LAST-MODIFIED:20260311T160119Z
UID:10006630-1781103600-1781107200@putneylibrary.org
SUMMARY:Putney Amblers Walking Group
DESCRIPTION:Would you like to get outside and walk in the company of others? The Putney Amblers is a casual walking group sponsored by Putney Public Library. Moseying with others is a great way to get out and be a part of a community group.\nThe Putney Amblers meet for walks at 3:00 pm on Wednesdays\, changing spots and routes each week. Please feel free to join us on an impromptu basis\, or email Susan Heimer to register to get weekly location and weather-related updates: heimer.susan@gmail.com Walks will last from 60-90 minutes depending on the will of the group.
URL:http://putneylibrary.org/event/putney-amblers-walking-group-3/2026-06-10/
END:VEVENT
BEGIN:VEVENT
DTSTART;TZID=America/New_York:20260614T130000
DTEND;TZID=America/New_York:20260614T160000
DTSTAMP:20260421T051110
CREATED:20251217T204800Z
LAST-MODIFIED:20260121T191351Z
UID:10006565-1781442000-1781452800@putneylibrary.org
SUMMARY:Mending Bee
DESCRIPTION:Do you have a pile of nice wool socks with holes\, favorite jeans that would be perfect if not for a rip in the knee\, or sweaters with moth holes?\nBring your ailing fabric items to the Putney Public Library once a month on Sundays 1-4pm to work on them in the company of others. Advice and support are always available\, but you’ll be the mender of your own items.\nSewing machines and darning tools are available to use during the Bee.
URL:http://putneylibrary.org/event/mending-bee-26/
END:VEVENT
BEGIN:VEVENT
DTSTART;TZID=America/New_York:20260617T150000
DTEND;TZID=America/New_York:20260617T160000
DTSTAMP:20260421T051110
CREATED:20260311T160119Z
LAST-MODIFIED:20260311T160119Z
UID:10006631-1781708400-1781712000@putneylibrary.org
SUMMARY:Putney Amblers Walking Group
DESCRIPTION:Would you like to get outside and walk in the company of others? The Putney Amblers is a casual walking group sponsored by Putney Public Library. Moseying with others is a great way to get out and be a part of a community group.\nThe Putney Amblers meet for walks at 3:00 pm on Wednesdays\, changing spots and routes each week. Please feel free to join us on an impromptu basis\, or email Susan Heimer to register to get weekly location and weather-related updates: heimer.susan@gmail.com Walks will last from 60-90 minutes depending on the will of the group.
URL:http://putneylibrary.org/event/putney-amblers-walking-group-3/2026-06-17/
END:VEVENT
BEGIN:VEVENT
DTSTART;TZID=America/New_York:20260617T180000
DTEND;TZID=America/New_York:20260617T200000
DTSTAMP:20260421T051110
CREATED:20251120T173414Z
LAST-MODIFIED:20260121T191358Z
UID:10006535-1781719200-1781726400@putneylibrary.org
SUMMARY:Stitch Together
DESCRIPTION:Stitch Together at Putney Library\nCome knit\, crochet\, embroider\, mend or work on any handwork craft in the company of others. The library is cozy and the lighting is perfect for needlework of all kinds! Beginners are welcome!\nThe group will meet twice monthly on Wednesday evenings from 6pm-8pm. The next meetings are: \nPutney Library is located at 55 Main Street in Putney\, VT. This program is free and open to the public.
URL:http://putneylibrary.org/event/stitch-together-15/
END:VEVENT
BEGIN:VEVENT
DTSTART;VALUE=DATE:20260619
DTEND;VALUE=DATE:20260620
DTSTAMP:20260421T051110
CREATED:20251212T220826Z
LAST-MODIFIED:20260121T191543Z
UID:10006549-1781827200-1781913599@putneylibrary.org
SUMMARY:Library Closed for Juneteenth
DESCRIPTION:
URL:http://putneylibrary.org/event/library-closed-for-juneteenth-2/
END:VEVENT
BEGIN:VEVENT
DTSTART;TZID=America/New_York:20260624T150000
DTEND;TZID=America/New_York:20260624T160000
DTSTAMP:20260421T051110
CREATED:20260311T160119Z
LAST-MODIFIED:20260311T160119Z
UID:10006632-1782313200-1782316800@putneylibrary.org
SUMMARY:Putney Amblers Walking Group
DESCRIPTION:Would you like to get outside and walk in the company of others? The Putney Amblers is a casual walking group sponsored by Putney Public Library. Moseying with others is a great way to get out and be a part of a community group.\nThe Putney Amblers meet for walks at 3:00 pm on Wednesdays\, changing spots and routes each week. Please feel free to join us on an impromptu basis\, or email Susan Heimer to register to get weekly location and weather-related updates: heimer.susan@gmail.com Walks will last from 60-90 minutes depending on the will of the group.
URL:http://putneylibrary.org/event/putney-amblers-walking-group-3/2026-06-24/
END:VEVENT
BEGIN:VEVENT
DTSTART;TZID=America/New_York:20260701T150000
DTEND;TZID=America/New_York:20260701T160000
DTSTAMP:20260421T051110
CREATED:20260311T160119Z
LAST-MODIFIED:20260311T160119Z
UID:10006633-1782918000-1782921600@putneylibrary.org
SUMMARY:Putney Amblers Walking Group
DESCRIPTION:Would you like to get outside and walk in the company of others? The Putney Amblers is a casual walking group sponsored by Putney Public Library. Moseying with others is a great way to get out and be a part of a community group.\nThe Putney Amblers meet for walks at 3:00 pm on Wednesdays\, changing spots and routes each week. Please feel free to join us on an impromptu basis\, or email Susan Heimer to register to get weekly location and weather-related updates: heimer.susan@gmail.com Walks will last from 60-90 minutes depending on the will of the group.
URL:http://putneylibrary.org/event/putney-amblers-walking-group-3/2026-07-01/
END:VEVENT
BEGIN:VEVENT
DTSTART;VALUE=DATE:20260703
DTEND;VALUE=DATE:20260705
DTSTAMP:20260421T051110
CREATED:20251212T220914Z
LAST-MODIFIED:20260121T191552Z
UID:10006550-1783036800-1783209599@putneylibrary.org
SUMMARY:Library Closed for 4th of July
DESCRIPTION:
URL:http://putneylibrary.org/event/library-closed-for-4th-of-july/
END:VEVENT
BEGIN:VEVENT
DTSTART;TZID=America/New_York:20260706T153000
DTEND;TZID=America/New_York:20260706T163000
DTSTAMP:20260421T051110
CREATED:20260319T174442Z
LAST-MODIFIED:20260319T174442Z
UID:10006657-1783351800-1783355400@putneylibrary.org
SUMMARY:Summer Reading Program - Dino Man
DESCRIPTION:How do we know dinosaurs were here? What is a fossil? How are they made? \nAccompanied by giant inflatable dinosaurs\, Dinoman brings his fun and informative show to the Main Reading Room of the library. Fun for all ages.
URL:http://putneylibrary.org/event/summer-reading-program-dino-man/
END:VEVENT
BEGIN:VEVENT
DTSTART;TZID=America/New_York:20260708T150000
DTEND;TZID=America/New_York:20260708T160000
DTSTAMP:20260421T051110
CREATED:20260311T160119Z
LAST-MODIFIED:20260311T160119Z
UID:10006634-1783522800-1783526400@putneylibrary.org
SUMMARY:Putney Amblers Walking Group
DESCRIPTION:Would you like to get outside and walk in the company of others? The Putney Amblers is a casual walking group sponsored by Putney Public Library. Moseying with others is a great way to get out and be a part of a community group.\nThe Putney Amblers meet for walks at 3:00 pm on Wednesdays\, changing spots and routes each week. Please feel free to join us on an impromptu basis\, or email Susan Heimer to register to get weekly location and weather-related updates: heimer.susan@gmail.com Walks will last from 60-90 minutes depending on the will of the group.
URL:http://putneylibrary.org/event/putney-amblers-walking-group-3/2026-07-08/
END:VEVENT
BEGIN:VEVENT
DTSTART;TZID=America/New_York:20260708T160000
DTEND;TZID=America/New_York:20260708T170000
DTSTAMP:20260421T051110
CREATED:20260401T190959Z
LAST-MODIFIED:20260420T192733Z
UID:10006662-1783526400-1783530000@putneylibrary.org
SUMMARY:Summer Reading Program - Among Dinosaurs
DESCRIPTION:With the help of the Southern Vermont Museum of Natural History’s LIVE ANIMAL ambassadors we will delve into prehistoric mammals\, ancient ocean invertebrates\, fossils and more.
URL:http://putneylibrary.org/event/among-dinosaurs-southern-vermont-museum-of-natural-history/
END:VEVENT
BEGIN:VEVENT
DTSTART;TZID=America/New_York:20260713T160000
DTEND;TZID=America/New_York:20260713T170000
DTSTAMP:20260421T051110
CREATED:20260420T192631Z
LAST-MODIFIED:20260420T192631Z
UID:10006666-1783958400-1783962000@putneylibrary.org
SUMMARY:Summer Reading Program - Erupting Volcanoes & Hatching Dinosaur Eggs
DESCRIPTION:Learn about what lies beneath the earth’s crust as we erupt our own volcano and watch the lava spew out!\nUsing the same chemistry we used to erupt the volcano we will slowly hatch our dinosaur eggs to reveal what is inside!
URL:http://putneylibrary.org/event/summer-reading-program-erupting-volcanoes-hatching-dinosaur-eggs/
END:VEVENT
BEGIN:VEVENT
DTSTART;TZID=America/New_York:20260715T150000
DTEND;TZID=America/New_York:20260715T160000
DTSTAMP:20260421T051110
CREATED:20260311T160119Z
LAST-MODIFIED:20260311T160119Z
UID:10006635-1784127600-1784131200@putneylibrary.org
SUMMARY:Putney Amblers Walking Group
DESCRIPTION:Would you like to get outside and walk in the company of others? The Putney Amblers is a casual walking group sponsored by Putney Public Library. Moseying with others is a great way to get out and be a part of a community group.\nThe Putney Amblers meet for walks at 3:00 pm on Wednesdays\, changing spots and routes each week. Please feel free to join us on an impromptu basis\, or email Susan Heimer to register to get weekly location and weather-related updates: heimer.susan@gmail.com Walks will last from 60-90 minutes depending on the will of the group.
URL:http://putneylibrary.org/event/putney-amblers-walking-group-3/2026-07-15/
END:VEVENT
BEGIN:VEVENT
DTSTART;TZID=America/New_York:20260715T160000
DTEND;TZID=America/New_York:20260715T170000
DTSTAMP:20260421T051110
CREATED:20260401T191057Z
LAST-MODIFIED:20260420T192810Z
UID:10006663-1784131200-1784134800@putneylibrary.org
SUMMARY:Summer reading Program - Annual Sidewalk Chalk Party
DESCRIPTION:You are invited to Putney‘s annual sidewalk chalk party! Make art\, make friends\, make connections. Enjoy snow cones and LIFE SIZED dinosaur art!
URL:http://putneylibrary.org/event/annual-sidewalk-chalk-party/
END:VEVENT
BEGIN:VEVENT
DTSTART;TZID=America/New_York:20260720T160000
DTEND;TZID=America/New_York:20260720T170000
DTSTAMP:20260421T051110
CREATED:20260420T192900Z
LAST-MODIFIED:20260420T192900Z
UID:10006667-1784563200-1784566800@putneylibrary.org
SUMMARY:Summer Reading Program - Let's talk about treasure buried at the dump!
DESCRIPTION:Did you know that there is really no ‘away’ for some many things we throw in the trash?\nWe will explore the treasure buried in our trash- whether it’s items you can repurpose for art or the food scraps you can turn into ‘black gold’ by composting. Join local artist\, Amber Paris and WSWMD outreach coordinator\, Alex Lacy to explore how we can make better use of the things we might otherwise bury in the trash. You will have the opportunity to contribute to a collaborative art piece that will be installed at our transfer station in the Fall!
URL:http://putneylibrary.org/event/summer-reading-program-lets-talk-about-treasure-buried-at-the-dump/
END:VEVENT
BEGIN:VEVENT
DTSTART;TZID=America/New_York:20260722T150000
DTEND;TZID=America/New_York:20260722T160000
DTSTAMP:20260421T051110
CREATED:20260311T160119Z
LAST-MODIFIED:20260311T160119Z
UID:10006636-1784732400-1784736000@putneylibrary.org
SUMMARY:Putney Amblers Walking Group
DESCRIPTION:Would you like to get outside and walk in the company of others? The Putney Amblers is a casual walking group sponsored by Putney Public Library. Moseying with others is a great way to get out and be a part of a community group.\nThe Putney Amblers meet for walks at 3:00 pm on Wednesdays\, changing spots and routes each week. Please feel free to join us on an impromptu basis\, or email Susan Heimer to register to get weekly location and weather-related updates: heimer.susan@gmail.com Walks will last from 60-90 minutes depending on the will of the group.
URL:http://putneylibrary.org/event/putney-amblers-walking-group-3/2026-07-22/
END:VEVENT
BEGIN:VEVENT
DTSTART;TZID=America/New_York:20260722T160000
DTEND;TZID=America/New_York:20260722T170000
DTSTAMP:20260421T051110
CREATED:20260420T193020Z
LAST-MODIFIED:20260420T193020Z
UID:10006668-1784736000-1784739600@putneylibrary.org
SUMMARY:Summer Reading Program - Dirt Cups with the Brattleboro Food Coop
DESCRIPTION:Let’s learn about soil health by eating some dirt! Well\, dirt pudding cups\, actually. Each young participant will create their own bowl of healthy soil using homemade chocolate whipped cream\, crushed grahams\, and all kinds of other delicious ingredients!  Gluten-free\, vegan and dairy-free options will be available; if your family needs any other dietary accommodations please let the library know by Friday\, July 17th.
URL:http://putneylibrary.org/event/summer-reading-program-dirt-cups-with-the-brattleboro-food-coop/
END:VEVENT
END:VCALENDAR